BEGIN:VCALENDAR
VERSION:2.0
PRODID:-//Cornerstone Academy - ECPv5.16.4//NONSGML v1.0//EN
CALSCALE:GREGORIAN
METHOD:PUBLISH
X-WR-CALNAME:Cornerstone Academy
X-ORIGINAL-URL:https://cornerstoneacad.org
X-WR-CALDESC:Events for Cornerstone Academy
BEGIN:VTIMEZONE
TZID:America/New_York
BEGIN:DAYLIGHT
TZOFFSETFROM:-0500
TZOFFSETTO:-0400
TZNAME:EDT
DTSTART:20230312T070000
END:DAYLIGHT
BEGIN:STANDARD
TZOFFSETFROM:-0400
TZOFFSETTO:-0500
TZNAME:EST
DTSTART:20231105T060000
END:STANDARD
END:VTIMEZONE
BEGIN:VEVENT
DTSTART;TZID=America/New_York:20230518T190000
DTEND;TZID=America/New_York:20230518T190000
DTSTAMP:20260424T005844
CREATED:20220801T145930Z
LAST-MODIFIED:20220801T145930Z
UID:12739-1684436400-1684436400@cornerstoneacad.org
SUMMARY:School Board Meeting
DESCRIPTION:
URL:https://cornerstoneacad.org/event/school-board-meeting-6/
LOCATION:Cornerstone High School\, 6005 Nacot Place\, New Albany\, OH\, 43054
CATEGORIES:Calendar Only,School Board
END:VEVENT
END:VCALENDAR