BEGIN:VCALENDAR
VERSION:2.0
PRODID:-//Cornerstone Academy - ECPv5.16.4//NONSGML v1.0//EN
CALSCALE:GREGORIAN
METHOD:PUBLISH
X-WR-CALNAME:Cornerstone Academy
X-ORIGINAL-URL:https://cornerstoneacad.org
X-WR-CALDESC:Events for Cornerstone Academy
BEGIN:VTIMEZONE
TZID:America/New_York
BEGIN:DAYLIGHT
TZOFFSETFROM:-0500
TZOFFSETTO:-0400
TZNAME:EDT
DTSTART:20240310T070000
END:DAYLIGHT
BEGIN:STANDARD
TZOFFSETFROM:-0400
TZOFFSETTO:-0500
TZNAME:EST
DTSTART:20241103T060000
END:STANDARD
END:VTIMEZONE
BEGIN:VEVENT
DTSTART;TZID=America/New_York:20240719T100000
DTEND;TZID=America/New_York:20240719T150000
DTSTAMP:20260425T063717
CREATED:20240621T180602Z
LAST-MODIFIED:20240621T180602Z
UID:21904-1721383200-1721401200@cornerstoneacad.org
SUMMARY:Kindergarten Tour Time
DESCRIPTION:Join our group tour to get acquainted with our Kindergarten program. New Kindergarten Sections are Open. More options for your child’s journey to success. Tour the campus\, meet our staff\, preview our easy registration process\, or register same day. \nRSVP Today: cornerstoneacad.org/events
URL:https://cornerstoneacad.org/event/kindergarten-tour-time-2/
LOCATION:Cornerstone Academy\, 6015 E. Walnut Street\, Westerville\, OH\, 43081\, United States
CATEGORIES:Calendar Only,Prospective Families, Events, Home
GEO:40.1130067;-82.8271182
X-APPLE-STRUCTURED-LOCATION;VALUE=URI;X-ADDRESS=Cornerstone Academy 6015 E. Walnut Street Westerville OH 43081 United States;X-APPLE-RADIUS=500;X-TITLE=6015 E. Walnut Street:geo:-82.8271182,40.1130067
END:VEVENT
END:VCALENDAR