BEGIN:VCALENDAR
VERSION:2.0
PRODID:-//Cornerstone Academy - ECPv5.16.4//NONSGML v1.0//EN
CALSCALE:GREGORIAN
METHOD:PUBLISH
X-WR-CALNAME:Cornerstone Academy
X-ORIGINAL-URL:https://cornerstoneacad.org
X-WR-CALDESC:Events for Cornerstone Academy
BEGIN:VTIMEZONE
TZID:America/New_York
BEGIN:DAYLIGHT
TZOFFSETFROM:-0500
TZOFFSETTO:-0400
TZNAME:EDT
DTSTART:20220313T070000
END:DAYLIGHT
BEGIN:STANDARD
TZOFFSETFROM:-0400
TZOFFSETTO:-0500
TZNAME:EST
DTSTART:20221106T060000
END:STANDARD
END:VTIMEZONE
BEGIN:VEVENT
DTSTART;VALUE=DATE:20220824
DTEND;VALUE=DATE:20220825
DTSTAMP:20260424T022419
CREATED:20220812T142722Z
LAST-MODIFIED:20220812T142746Z
UID:13126-1661299200-1661385599@cornerstoneacad.org
SUMMARY:First Day of School - CHS Campus (8-12)
DESCRIPTION:
URL:https://cornerstoneacad.org/event/first-day-of-school-chs-campus-8-12/
LOCATION:Cornerstone High School\, 6005 Nacot Place\, New Albany\, OH\, 43054
CATEGORIES:Calendar Only
END:VEVENT
END:VCALENDAR