BEGIN:VCALENDAR
VERSION:2.0
PRODID:-//Cornerstone Academy - ECPv5.16.4//NONSGML v1.0//EN
CALSCALE:GREGORIAN
METHOD:PUBLISH
X-WR-CALNAME:Cornerstone Academy
X-ORIGINAL-URL:https://cornerstoneacad.org
X-WR-CALDESC:Events for Cornerstone Academy
BEGIN:VTIMEZONE
TZID:America/New_York
BEGIN:DAYLIGHT
TZOFFSETFROM:-0500
TZOFFSETTO:-0400
TZNAME:EDT
DTSTART:20220313T070000
END:DAYLIGHT
BEGIN:STANDARD
TZOFFSETFROM:-0400
TZOFFSETTO:-0500
TZNAME:EST
DTSTART:20221106T060000
END:STANDARD
END:VTIMEZONE
BEGIN:VEVENT
DTSTART;VALUE=DATE:20220503
DTEND;VALUE=DATE:20220504
DTSTAMP:20260425T184605
CREATED:20210702T142047Z
LAST-MODIFIED:20211025T165318Z
UID:9449-1651536000-1651622399@cornerstoneacad.org
SUMMARY:Election Day at the Annex - All Annex Students Attend Via Canvas
DESCRIPTION:
URL:https://cornerstoneacad.org/event/election-day-annex-annex-students-attend-virtually-2/
LOCATION:Cornerstone Academy\, 6015 E. Walnut Street\, Westerville\, OH\, 43081\, United States
CATEGORIES:Calendar Only
GEO:40.1130067;-82.8271182
X-APPLE-STRUCTURED-LOCATION;VALUE=URI;X-ADDRESS=Cornerstone Academy 6015 E. Walnut Street Westerville OH 43081 United States;X-APPLE-RADIUS=500;X-TITLE=6015 E. Walnut Street:geo:-82.8271182,40.1130067
END:VEVENT
END:VCALENDAR