BEGIN:VCALENDAR
VERSION:2.0
PRODID:-//Cornerstone Academy - ECPv5.16.4//NONSGML v1.0//EN
CALSCALE:GREGORIAN
METHOD:PUBLISH
X-WR-CALNAME:Cornerstone Academy
X-ORIGINAL-URL:https://cornerstoneacad.org
X-WR-CALDESC:Events for Cornerstone Academy
BEGIN:VTIMEZONE
TZID:America/New_York
BEGIN:DAYLIGHT
TZOFFSETFROM:-0500
TZOFFSETTO:-0400
TZNAME:EDT
DTSTART:20210314T070000
END:DAYLIGHT
BEGIN:STANDARD
TZOFFSETFROM:-0400
TZOFFSETTO:-0500
TZNAME:EST
DTSTART:20211107T060000
END:STANDARD
END:VTIMEZONE
BEGIN:VEVENT
DTSTART;TZID=America/New_York:20210422T180000
DTEND;TZID=America/New_York:20210422T180000
DTSTAMP:20260425T171758
CREATED:20200723T144655Z
LAST-MODIFIED:20210419T180510Z
UID:6070-1619114400-1619114400@cornerstoneacad.org
SUMMARY:Board Meeting
DESCRIPTION:During the COVID-19 declared state of emergency\, the board meeting will be held electronically while the state of emergency is in effect. All attendees may join the meeting via GoToMeeting: \nhttps://global.gotomeeting.com/join/416694445  \nYou can also dial in using your phone: \nUnited States: +1 (312) 757-3121  \nAccess Code: 416-694-445
URL:https://cornerstoneacad.org/event/board-meeting-6/
LOCATION:Virtual
CATEGORIES:Calendar Only,School Board
END:VEVENT
END:VCALENDAR