BEGIN:VCALENDAR
VERSION:2.0
PRODID:-//Cornerstone Academy - ECPv5.16.4//NONSGML v1.0//EN
CALSCALE:GREGORIAN
METHOD:PUBLISH
X-WR-CALNAME:Cornerstone Academy
X-ORIGINAL-URL:https://cornerstoneacad.org
X-WR-CALDESC:Events for Cornerstone Academy
BEGIN:VTIMEZONE
TZID:America/New_York
BEGIN:DAYLIGHT
TZOFFSETFROM:-0500
TZOFFSETTO:-0400
TZNAME:EDT
DTSTART:20240310T070000
END:DAYLIGHT
BEGIN:STANDARD
TZOFFSETFROM:-0400
TZOFFSETTO:-0500
TZNAME:EST
DTSTART:20241103T060000
END:STANDARD
END:VTIMEZONE
BEGIN:VEVENT
DTSTART;TZID=America/New_York:20241017T180000
DTEND;TZID=America/New_York:20241017T180000
DTSTAMP:20260423T221815
CREATED:20240524T155531Z
LAST-MODIFIED:20240524T155531Z
UID:21730-1729188000-1729188000@cornerstoneacad.org
SUMMARY:Board Meeting
DESCRIPTION:On Agenda: Public Hearing\, Standardized Test Preparation Time Limit Public Hearing\, IDEA Part B Funds
URL:https://cornerstoneacad.org/event/board-meeting-31/
LOCATION:Columbus Humanities Arts & Technology Academy\, 1333 Morse Road\, Columbus\, OH\, 43229\, United States
CATEGORIES:School Board
END:VEVENT
END:VCALENDAR