BEGIN:VCALENDAR
VERSION:2.0
PRODID:-//Cornerstone Academy - ECPv5.16.4//NONSGML v1.0//EN
CALSCALE:GREGORIAN
METHOD:PUBLISH
X-WR-CALNAME:Cornerstone Academy
X-ORIGINAL-URL:https://cornerstoneacad.org
X-WR-CALDESC:Events for Cornerstone Academy
BEGIN:VTIMEZONE
TZID:America/New_York
BEGIN:DAYLIGHT
TZOFFSETFROM:-0500
TZOFFSETTO:-0400
TZNAME:EDT
DTSTART:20220313T070000
END:DAYLIGHT
BEGIN:STANDARD
TZOFFSETFROM:-0400
TZOFFSETTO:-0500
TZNAME:EST
DTSTART:20221106T060000
END:STANDARD
END:VTIMEZONE
BEGIN:VEVENT
DTSTART;TZID=America/New_York:20220915T190000
DTEND;TZID=America/New_York:20220915T190000
DTSTAMP:20260424T022120
CREATED:20220729T185508Z
LAST-MODIFIED:20220729T185552Z
UID:12691-1663268400-1663268400@cornerstoneacad.org
SUMMARY:Board Meeting
DESCRIPTION:PUBLIC NOTICE OF BOARD \nOF DIRECTOR’S MEETING \nFOR\nCORNERSTONE ACADEMY \nTO BE HELD AT\nCORNERSTONE HIGH SCHOOL\n7525 W. CAMPUS ROAD\nNEW ALBANY\, OHIO 43054 \nON\nSEPTEMBER 15\, 2022 AT 7:00 PM \nPLEASE JOIN OUR MEETING FROM YOUR\nCOMPUTER OR SMART PHONE AT:\nhttps://teams.microsoft.com/l/meetup-join/19%3ameeting_NTI3ODU0NmMtODllYS00MGY4LTkwZDAtZWYxYjc0MTgzODI3%40thread.v2/0?context=%7b%22Tid%22%3a%224f48161d-d972-4dbb-8374-0fd5b53a0be7%22%2c%22Oid%22%3a%225cf61dee-bea4-4eb2-8258-32762d08ebf2%22%7d \nThis is a regularly scheduled Board meeting. \n  \nDownload Notice PDF »
URL:https://cornerstoneacad.org/event/board-meeting-21/
LOCATION:Cornerstone High School\, 6005 Nacot Place\, New Albany\, OH\, 43054
CATEGORIES:Calendar Only,School Board
END:VEVENT
END:VCALENDAR