BEGIN:VCALENDAR
VERSION:2.0
PRODID:-//Cornerstone Academy - ECPv5.16.4//NONSGML v1.0//EN
CALSCALE:GREGORIAN
METHOD:PUBLISH
X-WR-CALNAME:Cornerstone Academy
X-ORIGINAL-URL:https://cornerstoneacad.org
X-WR-CALDESC:Events for Cornerstone Academy
BEGIN:VTIMEZONE
TZID:America/New_York
BEGIN:DAYLIGHT
TZOFFSETFROM:-0500
TZOFFSETTO:-0400
TZNAME:EDT
DTSTART:20200308T070000
END:DAYLIGHT
BEGIN:STANDARD
TZOFFSETFROM:-0400
TZOFFSETTO:-0500
TZNAME:EST
DTSTART:20201101T060000
END:STANDARD
END:VTIMEZONE
BEGIN:VEVENT
DTSTART;TZID=America/New_York:20200826T120000
DTEND;TZID=America/New_York:20200826T140000
DTSTAMP:20260425T184535
CREATED:20200826T155751Z
LAST-MODIFIED:20200826T155805Z
UID:6508-1598443200-1598450400@cornerstoneacad.org
SUMMARY:AMP Support Virtual “Brown Bag” Mtg
DESCRIPTION:Drop-in at your convenience to join our AMP & Tech Support teams for Virtual Office Hours. Families will learn they key steps to utilize AMP such as how to log-in\, access live sessions\, contact teachers\, and more! Families will also have the opportunity to ask their specific questions and participate in demos about navigating AMP and using its features. \nhttps://zoom.us/j/95840510527#success
URL:https://cornerstoneacad.org/event/amp-support-virtual-brown-bag-mtg/
CATEGORIES:Calendar Only,Prospective Families, Events, Home
END:VEVENT
END:VCALENDAR